BEGIN:VCALENDAR
VERSION:2.0
PRODID:-//wp-events-plugin.com//7.2.3.1//EN
TZID:Europe/London
X-WR-TIMEZONE:Europe/London
BEGIN:VEVENT
UID:40@newarkbusinessclub.co.uk
DTSTART;TZID=Europe/London:20260306T064500
DTEND;TZID=Europe/London:20260306T090000
DTSTAMP:20230104T101754Z
URL:https://newarkbusinessclub.co.uk/events/monthly-breakfast-meeting-2026
 -03-06/
SUMMARY:Monthly Breakfast Meeting
DESCRIPTION:Our monthly breakfast meetings take place on the first Friday o
 f every month (excluding bank holidays).\n\nBook a meeting
CATEGORIES:Monthly Breakfast Meetings
END:VEVENT
BEGIN:VTIMEZONE
TZID:Europe/London
X-LIC-LOCATION:Europe/London
BEGIN:STANDARD
DTSTART:20251026T010000
TZOFFSETFROM:+0100
TZOFFSETTO:+0000
TZNAME:GMT
END:STANDARD
END:VTIMEZONE
END:VCALENDAR